BEGIN:VCALENDAR
VERSION:2.0
PRODID:-//Le Panorama de Grenay - ECPv5.6.0//NONSGML v1.0//EN
CALSCALE:GREGORIAN
METHOD:PUBLISH
X-WR-CALNAME:Le Panorama de Grenay
X-ORIGINAL-URL:https://www.lepano.fr
X-WR-CALDESC:évènements pour Le Panorama de Grenay
BEGIN:VTIMEZONE
TZID:Europe/Paris
BEGIN:DAYLIGHT
TZOFFSETFROM:+0100
TZOFFSETTO:+0200
TZNAME:CEST
DTSTART:20230326T010000
END:DAYLIGHT
BEGIN:STANDARD
TZOFFSETFROM:+0200
TZOFFSETTO:+0100
TZNAME:CET
DTSTART:20231029T010000
END:STANDARD
END:VTIMEZONE
BEGIN:VEVENT
DTSTART;VALUE=DATE:20230810
DTEND;VALUE=DATE:20230828
DTSTAMP:20260423T190813
CREATED:20231016T061630Z
LAST-MODIFIED:20231016T061630Z
UID:1927-1691625600-1693180799@www.lepano.fr
SUMMARY:Fermé CONGES D'ETE
DESCRIPTION:Fermé du 10 au 27 août inclus \n😎Bel été à tous !! ☀️🌴
URL:https://www.lepano.fr/event/ferme-conges-dete/
END:VEVENT
END:VCALENDAR