BEGIN:VCALENDAR
VERSION:2.0
PRODID:-//Le Panorama de Grenay - ECPv5.6.0//NONSGML v1.0//EN
CALSCALE:GREGORIAN
METHOD:PUBLISH
X-WR-CALNAME:Le Panorama de Grenay
X-ORIGINAL-URL:https://www.lepano.fr
X-WR-CALDESC:évènements pour Le Panorama de Grenay
BEGIN:VTIMEZONE
TZID:Europe/Paris
BEGIN:DAYLIGHT
TZOFFSETFROM:+0100
TZOFFSETTO:+0200
TZNAME:CEST
DTSTART:20220327T010000
END:DAYLIGHT
BEGIN:STANDARD
TZOFFSETFROM:+0200
TZOFFSETTO:+0100
TZNAME:CET
DTSTART:20221030T010000
END:STANDARD
END:VTIMEZONE
BEGIN:VEVENT
DTSTART;TZID=Europe/Paris:20220423T120000
DTEND;TZID=Europe/Paris:20220423T233000
DTSTAMP:20260423T221349
CREATED:20220312T122740Z
LAST-MODIFIED:20220319T214132Z
UID:1670-1650715200-1650756600@www.lepano.fr
SUMMARY:Festival des 10ans du Pano !
DESCRIPTION:En Avril\, Le Pano fête ses 10ans !! \nAprès ces 2 années moroses\, 2 anniv’ passés à la trappe\, on a voulu faire les choses en grand et on vous propose un véritable festival le Samedi 23 avril 2022 !! \nDe midi à minuit\, 9 groupes pour se balader dans le rock : des incontournables\, des fidèles\, des nouveautés et des surprises … et évidemment\, le plaisir de se retrouver et de festoyer !! \n\nUn festival de musiques + pleins de cadeaux ! \n11h30 – Ouverture + Cocktail de bienvenue\n12h00 – Blowin’the blues [Reprises blues Acoustic]  Une belle rencontre avec ces grands musiciens qui vous transmettront leurs passions de blues avec des reprises Blues et Soul qui réchaufferont vos cœurs !\n13h30 – Chicken fried [American Acoustic] C’est Florent Dufour et Minka aux voix et aux guitares. C’est la musique Américaine acoustique par excellence: country music\, folk\, rock\, americana\, et aussi un répertoire Irlandais. CHICKEN FRIED c’est un voyage au travers de l’Amérique\, son histoire\, sa musique…\n15h00 – Off The Yard [Folk Punk Acoustic] Ces lyonnais nous balancent une folk aux grandes influences punk comme Nofx ou The Matchup\, deux voix\, deux guitares\, efficace et entraînant.\n16h00 – Gaëthys Percu [Ecole de Percu] Les élèves de l’école de Percu Gaëthys Percu à St-Georges d’Espéranche\, vous feront vibrer aux sons de leurs djembe\, congas et cajon\n17h00 – eLZed [Yellow Pop Rock] Après 5 ans d’absence\, comment dire le plaisir de retrouver eLZed!! Ils étaient là pour l’inauguration\, ils étaient là pour les 5ans\, ils seront là pour les 10ans !!\nEst-ce qu’on présente encore eLZed !!?!! eLZed\, c’est du rock en français\, c’est du jaune\, celui qui réchauffe les cœurs et les corps. Énergique\, des solos de gratte comme on n’ose plus\, un univers décalé limite déphasé ! \n18h30 – NAT [Folk Hippie Punk] Parfois pop\, parfois rock\, NAT et sa guitare sont à la vie comme à la scène. \nElle parle\, elle rit\, elle pleure \,\,\,. Et souvent\, le public en fait autant. C’est dans le rapport à l’autre\, aux autres\, que NAT puise son énergie. Généreuse\, drôle\, un brin déjantée\, elle donne d’elle-même à l’infini\n19h30 – Pyker Lachiver [Folk Punk Rock] En acoustique c’est une folk inspirée des balades américaines\, d’un punk rock qui se canalise\, de chansons qui racontent nos vies. Mais cette fois Pyker sera avec ses meilleurs renforts\, en Full Band. Un boost d’énergie apporté par le nombre et par les amplis qui ronflent.\n21h00 – Ass Monkey [Rock Reggae] ASS MONKEY a vu le jour en 2010…Après une dizaine d’années de concerts et de singeries en tous genres\, 1 des primates a quitté la horde. Mais comme le cri du singe hurleur qui résonne\, ceux restant ont continué l’aventure. En 2020\, 2 quadrumanes ont répondu aux appels de la forêt. Depuis ce jour\, la famille poursuit son chemin à travers une musique Rock festive tâchée de Punk et teintée de Ska. \n22h30 – Apple Jelly [Indie Rock] Groupe indie rock de la scène lyonnais qui développe un univers autant musical que visuel pour dépeindre la société dans laquelle nous vivons. Alternant des compositions plus « rentre dedans » avec d’autres à l’ambiance plus marquées\, le groupe prend toute sa dimension en concert où la présence forte de ses membres\, et l’énergie de sa musique font généralement mouche auprès du public\n\n\nPAF 10€ en prévente (12€ sur place)\nGratuit – de 18ans\nPrévente disponible à partir du 30 mars 2022 (Panorama Grenay & Déclic Ludik Bourgoin) \n\nRESTAURATION toute la journée\n\nA midi : Burgers Maison\nToute la journée : Frites / Snacks / Sucrés …\nLe soir : Chili con Carne & Riz – Chili Vegan
URL:https://www.lepano.fr/event/festival-des-10ans-du-pano/
LOCATION:LE PANORAMA\, 8 grande place\, GRENAY\, 38540\, France
CATEGORIES:Rock’n roll
ATTACH;FMTTYPE=image/png:https://www.lepano.fr/wp-content/uploads/2022/03/10ans-Pano-3.png
END:VEVENT
END:VCALENDAR