BEGIN:VCALENDAR
VERSION:2.0
PRODID:-//Le Panorama de Grenay - ECPv5.6.0//NONSGML v1.0//EN
CALSCALE:GREGORIAN
METHOD:PUBLISH
X-WR-CALNAME:Le Panorama de Grenay
X-ORIGINAL-URL:https://www.lepano.fr
X-WR-CALDESC:évènements pour Le Panorama de Grenay
BEGIN:VTIMEZONE
TZID:Europe/Paris
BEGIN:DAYLIGHT
TZOFFSETFROM:+0100
TZOFFSETTO:+0200
TZNAME:CEST
DTSTART:20230326T010000
END:DAYLIGHT
BEGIN:STANDARD
TZOFFSETFROM:+0200
TZOFFSETTO:+0100
TZNAME:CET
DTSTART:20231029T010000
END:STANDARD
END:VTIMEZONE
BEGIN:VEVENT
DTSTART;TZID=Europe/Paris:20231014T080000
DTEND;TZID=Europe/Paris:20231014T130000
DTSTAMP:20260423T203936
CREATED:20231016T055606Z
LAST-MODIFIED:20231016T055606Z
UID:1916-1697270400-1697288400@www.lepano.fr
SUMMARY:Matinée Huîtres
DESCRIPTION:OUVERTURE exceptionnelle ce SAMEDI 14 Octobre de 9h à 13h\, pour une DÉGUSTATION & VENTE d’Huîtres de Bouzigues\, directement du producteur de l’Étang de Thau \nEt bien sûr\, pour vos besoins en service de proximité (Tabac\, jeux\, relais colis\, …) ou pour un petit café  ou un apéro  !!!
URL:https://www.lepano.fr/event/matinee-huitres/
LOCATION:LE PANORAMA\, 8 grande place\, GRENAY\, 38540\, France
END:VEVENT
END:VCALENDAR