BEGIN:VCALENDAR
VERSION:2.0
PRODID:-//Le Panorama de Grenay - ECPv5.6.0//NONSGML v1.0//EN
CALSCALE:GREGORIAN
METHOD:PUBLISH
X-WR-CALNAME:Le Panorama de Grenay
X-ORIGINAL-URL:https://www.lepano.fr
X-WR-CALDESC:évènements pour Le Panorama de Grenay
BEGIN:VTIMEZONE
TZID:Europe/Paris
BEGIN:DAYLIGHT
TZOFFSETFROM:+0100
TZOFFSETTO:+0200
TZNAME:CEST
DTSTART:20220327T010000
END:DAYLIGHT
BEGIN:STANDARD
TZOFFSETFROM:+0200
TZOFFSETTO:+0100
TZNAME:CET
DTSTART:20221030T010000
END:STANDARD
END:VTIMEZONE
BEGIN:VEVENT
DTSTART;TZID=Europe/Paris:20221222T080000
DTEND;TZID=Europe/Paris:20221223T170000
DTSTAMP:20260423T185821
CREATED:20221221T092603Z
LAST-MODIFIED:20221221T092807Z
UID:1786-1671696000-1671814800@www.lepano.fr
SUMMARY:Menu de fêtes
DESCRIPTION:
URL:https://www.lepano.fr/event/menu-de-fetes-4/
LOCATION:LE PANORAMA\, 8 grande place\, GRENAY\, 38540\, France
END:VEVENT
END:VCALENDAR