BEGIN:VCALENDAR
VERSION:2.0
PRODID:-//Le Panorama de Grenay - ECPv5.6.0//NONSGML v1.0//EN
CALSCALE:GREGORIAN
METHOD:PUBLISH
X-WR-CALNAME:Le Panorama de Grenay
X-ORIGINAL-URL:https://www.lepano.fr
X-WR-CALDESC:évènements pour Le Panorama de Grenay
BEGIN:VTIMEZONE
TZID:Europe/Paris
BEGIN:DAYLIGHT
TZOFFSETFROM:+0100
TZOFFSETTO:+0200
TZNAME:CEST
DTSTART:20220327T010000
END:DAYLIGHT
BEGIN:STANDARD
TZOFFSETFROM:+0200
TZOFFSETTO:+0100
TZNAME:CET
DTSTART:20221030T010000
END:STANDARD
END:VTIMEZONE
BEGIN:VEVENT
DTSTART;TZID=Europe/Paris:20221015T080000
DTEND;TZID=Europe/Paris:20221015T170000
DTSTAMP:20260423T204524
CREATED:20221112T200106Z
LAST-MODIFIED:20221112T200106Z
UID:1769-1665820800-1665853200@www.lepano.fr
SUMMARY:Moules-Frites
DESCRIPTION: Ouverture exceptionnelle Samedi 15 octobre de 8h à 15h \nGrenay organise son Marché producteur locaux sur la Place du village. Nous aurons le plaisir de vous proposer une Restauration Moules-Frites sur place  ou à emporter  !!!\nRéservation conseillée\nEt bien sûr\, pour vos besoins en service de proximité (Tabac\, jeux\, relais colis\, …) ou pour un petit café  ou un apéro  !!!
URL:https://www.lepano.fr/event/moules-frites/
LOCATION:LE PANORAMA\, 8 grande place\, GRENAY\, 38540\, France
ATTACH;FMTTYPE=image/jpeg:https://www.lepano.fr/wp-content/uploads/2022/11/22-10-18th-Moules-frites-rotated.jpg
END:VEVENT
END:VCALENDAR