BEGIN:VCALENDAR
VERSION:2.0
PRODID:-//Le Panorama de Grenay - ECPv5.6.0//NONSGML v1.0//EN
CALSCALE:GREGORIAN
METHOD:PUBLISH
X-WR-CALNAME:Le Panorama de Grenay
X-ORIGINAL-URL:https://www.lepano.fr
X-WR-CALDESC:évènements pour Le Panorama de Grenay
BEGIN:VTIMEZONE
TZID:Europe/Paris
BEGIN:DAYLIGHT
TZOFFSETFROM:+0100
TZOFFSETTO:+0200
TZNAME:CEST
DTSTART:20230326T010000
END:DAYLIGHT
BEGIN:STANDARD
TZOFFSETFROM:+0200
TZOFFSETTO:+0100
TZNAME:CET
DTSTART:20231029T010000
END:STANDARD
END:VTIMEZONE
BEGIN:VEVENT
DTSTART;VALUE=DATE:20231023
DTEND;VALUE=DATE:20231028
DTSTAMP:20260423T204013
CREATED:20231016T060030Z
LAST-MODIFIED:20231016T060046Z
UID:1919-1698019200-1698451199@www.lepano.fr
SUMMARY:PAS DE RESTAURATION - BAR/TABAC OUVERT
DESCRIPTION:Notre cheffe en vacances\, nous ne proposerons pas de service restauration les midis du 23 octobre au 3 novembre. \n👉 Le bar reste ouvert de 7h à 12h et de 14h à 19h\, pour un petit café  ou un apéro  ou vos besoins en service de proximité (Tabac\, jeux\, relais colis\, …) !!!
URL:https://www.lepano.fr/event/pas-de-restauration-bar-tabac-ouvert/
LOCATION:LE PANORAMA\, 8 grande place\, GRENAY\, 38540\, France
END:VEVENT
END:VCALENDAR