BEGIN:VCALENDAR
VERSION:2.0
PRODID:-//Le Panorama de Grenay - ECPv5.6.0//NONSGML v1.0//EN
CALSCALE:GREGORIAN
METHOD:PUBLISH
X-WR-CALNAME:Le Panorama de Grenay
X-ORIGINAL-URL:https://www.lepano.fr
X-WR-CALDESC:évènements pour Le Panorama de Grenay
BEGIN:VTIMEZONE
TZID:Europe/Paris
BEGIN:DAYLIGHT
TZOFFSETFROM:+0100
TZOFFSETTO:+0200
TZNAME:CEST
DTSTART:20230326T010000
END:DAYLIGHT
BEGIN:STANDARD
TZOFFSETFROM:+0200
TZOFFSETTO:+0100
TZNAME:CET
DTSTART:20231029T010000
END:STANDARD
END:VTIMEZONE
BEGIN:VEVENT
DTSTART;TZID=Europe/Paris:20230317T193000
DTEND;TZID=Europe/Paris:20230317T223000
DTSTAMP:20260423T191315
CREATED:20230402T155221Z
LAST-MODIFIED:20230402T155221Z
UID:1847-1679081400-1679092200@www.lepano.fr
SUMMARY:Saint-Patrick avec Lelands Memory
DESCRIPTION:Fêtez la Saint-Patrick avec Leland’s Memory Lane& friends pour une soirée Irish et festive.\nReprises Irlandaises\, Rock \, Country\, Folk !\nBières irlandaises !!\nRestauration :\n* Pulled Pork burger (Effiloché de Porc à la bière brune) Frites & Salades\n* Plateau Charcuteries\, Fromages ou Calmos
URL:https://www.lepano.fr/event/saint-patrick-avec-lelands-memory/
LOCATION:LE PANORAMA\, 8 grande place\, GRENAY\, 38540\, France
CATEGORIES:Folk music
ATTACH;FMTTYPE=image/png:https://www.lepano.fr/wp-content/uploads/2023/04/23-03-17th-Affiche-St-Patrick.png
END:VEVENT
END:VCALENDAR